BEGIN:VCALENDAR
VERSION:2.0
PRODID:-//DP Pro Event Calendar//3.2.7//EN
BEGIN:VEVENT
UID:6f865191-a9e5-4330-b923-70c8bac787be
DTSTART;TZID=Europe/Rome:20240316T093000
DTEND;TZID=Europe/Rome:20240316T113000
DTSTAMP:20241027T024010Z
SUMMARY:Presentazione Grest
DESCRIPTION:Scopri di più...
LOCATION:Teatro parrocchiale di Buffalora
URL:
END:VEVENT
END:VCALENDAR