BEGIN:VCALENDAR
VERSION:2.0
PRODID:-//DP Pro Event Calendar//3.2.7//EN
BEGIN:VEVENT
UID:c34cf2e3-33f1-4004-b4db-f531e23ffabe
DTSTART;TZID=Europe/Rome:20240323T200000
DTEND;TZID=Europe/Rome:20240323T223000
DTSTAMP:20241027T024011Z
SUMMARY:Veglia della Palme
DESCRIPTION:Scopri di più...
LOCATION:
URL:
END:VEVENT
END:VCALENDAR