BEGIN:VCALENDAR
VERSION:2.0
PRODID:-//DP Pro Event Calendar//3.2.7//EN
BEGIN:VEVENT
UID:093e26e8-4aa6-4899-8d12-d6fa24d7abf9
DTSTART;TZID=Europe/Rome;VALUE=DATE:20240401
DTEND;TZID=Europe/Rome;VALUE=DATE:20240402
DTSTAMP:20241027T024011Z
SUMMARY:Torino - i ragazzi da don Bosco
DESCRIPTION:Scopri di più...
LOCATION:
URL:
END:VEVENT
END:VCALENDAR