BEGIN:VCALENDAR
VERSION:2.0
PRODID:-//DP Pro Event Calendar//3.2.7//EN
BEGIN:VEVENT
UID:584dfe60-decd-426f-bc39-6c4698108f31
DTSTART;TZID=Europe/Rome;VALUE=DATE:20240402
DTEND;TZID=Europe/Rome;VALUE=DATE:20240403
DTSTAMP:20241027T024011Z
SUMMARY:Torino - i ragazzi da don Bosco
DESCRIPTION:Scopri di più...
LOCATION:
URL:
END:VEVENT
END:VCALENDAR