BEGIN:VCALENDAR
VERSION:2.0
PRODID:-//DP Pro Event Calendar//3.2.7//EN
BEGIN:VEVENT
UID:936a708b-2dac-43a5-b534-ec9a538f4653
DTSTART;TZID=Europe/Rome;VALUE=DATE:20240421
DTEND;TZID=Europe/Rome;VALUE=DATE:20240422
DTSTAMP:20241027T024011Z
SUMMARY:Giornata Mondiale di Preghiera per le Vocazioni
DESCRIPTION:Scopri di più...
LOCATION:
URL:
END:VEVENT
END:VCALENDAR