BEGIN:VCALENDAR
VERSION:2.0
PRODID:-//DP Pro Event Calendar//3.2.7//EN
BEGIN:VEVENT
UID:d0002f10-3cdb-4972-b965-8a9e016ff2b5
DTSTART;TZID=Europe/Rome:20240524T200000
DTEND;TZID=Europe/Rome:20240524T230000
DTSTAMP:20241027T024011Z
SUMMARY:Grestival
DESCRIPTION:Scopri di più...
LOCATION:Istituto Salesiano S. Bernardino\, Chiari
URL:
END:VEVENT
END:VCALENDAR