BEGIN:VCALENDAR
VERSION:2.0
PRODID:-//DP Pro Event Calendar//3.2.7//EN
BEGIN:VEVENT
UID:3ea431f4-e9ea-47e4-adf1-c616c5a59b45
DTSTART;TZID=Europe/Rome:20240526T203000
DTEND;TZID=Europe/Rome:20240526T220000
DTSTAMP:20241027T024011Z
SUMMARY:Veglia vocazionale
DESCRIPTION:Scopri di più...
LOCATION:Concesio
URL:
END:VEVENT
END:VCALENDAR