BEGIN:VCALENDAR
VERSION:2.0
PRODID:-//DP Pro Event Calendar//3.2.7//EN
BEGIN:VEVENT
UID:d00f27d9-55a2-4b09-84dc-b0416ec1277d
DTSTART;TZID=Europe/Rome:20240615T140000
DTEND;TZID=Europe/Rome:20240615T183000
DTSTAMP:20241027T024011Z
SUMMARY:Convegno Biblico
DESCRIPTION:Scopri di più...
LOCATION:Polo Culturale Diocesano\, Brescia
URL:
END:VEVENT
END:VCALENDAR