BEGIN:VCALENDAR
VERSION:2.0
PRODID:-//DP Pro Event Calendar//3.2.7//EN
BEGIN:VEVENT
UID:9f81c739-8288-4520-8263-b1a9c1ab40ca
DTSTART;TZID=Europe/Rome:20240725T204500
DTEND;TZID=Europe/Rome:20240725T221500
DTSTAMP:20241027T024011Z
SUMMARY:Anteprima Anno Oratoriano 2024-2025
DESCRIPTION:Scorpi di più...
LOCATION:Casa Foresti\, Brescia
URL:
END:VEVENT
END:VCALENDAR