BEGIN:VCALENDAR
VERSION:2.0
PRODID:-//DP Pro Event Calendar//3.2.7//EN
BEGIN:VEVENT
UID:1556da43-faa4-4d6e-8794-70e7ecd37ac9
DTSTART;TZID=Europe/Rome:20240906T180000
DTEND;TZID=Europe/Rome:20240906T230000
DTSTAMP:20241027T024011Z
SUMMARY:1° Torneo beach volley per animatori
DESCRIPTION:Scopri di più...
LOCATION:Arena Beach\, Cellatica
URL:
END:VEVENT
END:VCALENDAR