BEGIN:VCALENDAR
VERSION:2.0
PRODID:-//DP Pro Event Calendar//3.2.7//EN
BEGIN:VEVENT
UID:b864a5ee-55f2-462f-b5b8-212f877b2c22
DTSTART;TZID=Europe/Rome:20240909T200000
DTEND;TZID=Europe/Rome:20240909T210000
DTSTAMP:20241027T024011Z
SUMMARY:I 10 comandamenti
DESCRIPTION:Inizio percorso
LOCATION:Iseo
URL:
END:VEVENT
END:VCALENDAR