BEGIN:VCALENDAR
VERSION:2.0
PRODID:-//DP Pro Event Calendar//3.2.7//EN
BEGIN:VEVENT
UID:2644e092-15c7-4240-97a6-f3a96e8a6367
DTSTART;TZID=Europe/Rome:20240916T183000
DTEND;TZID=Europe/Rome:20240916T200000
DTSTAMP:20241027T024011Z
SUMMARY:Cammino Guide dell'oratorio
DESCRIPTION:Inizio
LOCATION:
URL:
END:VEVENT
END:VCALENDAR