BEGIN:VCALENDAR
VERSION:2.0
PRODID:-//DP Pro Event Calendar//3.2.7//EN
BEGIN:VEVENT
UID:7f324daa-d048-4708-9d76-7b17697c04ed
DTSTART;TZID=Europe/Rome:20240916T203000
DTEND;TZID=Europe/Rome:20240916T213000
DTSTAMP:20241027T024011Z
SUMMARY:I 10 comandamenti
DESCRIPTION:Inizio percorso
LOCATION:Campoverde di Salò
URL:
END:VEVENT
END:VCALENDAR