BEGIN:VCALENDAR
VERSION:2.0
PRODID:-//DP Pro Event Calendar//3.2.7//EN
BEGIN:VEVENT
UID:52896745-6b84-4a52-a15b-b294a0b44334
DTSTART;TZID=Europe/Rome;VALUE=DATE:20240921
DTEND;TZID=Europe/Rome;VALUE=DATE:20240922
DTSTAMP:20241027T024011Z
SUMMARY:Incontro di progettazione con Educatori Ado e Preado
DESCRIPTION:
LOCATION:Casa Foresti
URL:
END:VEVENT
END:VCALENDAR