BEGIN:VCALENDAR
VERSION:2.0
PRODID:-//DP Pro Event Calendar//3.2.7//EN
BEGIN:VEVENT
UID:01efe2cb-cee1-4b54-83dc-9d1279a0e5ac
DTSTART;TZID=Europe/Rome:20240922T200000
DTEND;TZID=Europe/Rome:20240922T210000
DTSTAMP:20241027T024012Z
SUMMARY:I 10 comandamenti
DESCRIPTION:Inizio percorso
LOCATION:Parrocchia Volta - Brescia
URL:
END:VEVENT
END:VCALENDAR