BEGIN:VCALENDAR
VERSION:2.0
PRODID:-//DP Pro Event Calendar//3.2.7//EN
BEGIN:VEVENT
UID:07c4d4b6-c6ee-400f-9c5e-39afe20eea47
DTSTART;TZID=Europe/Rome;VALUE=DATE:20240924
DTEND;TZID=Europe/Rome;VALUE=DATE:20240925
DTSTAMP:20260421T014423Z
SUMMARY:Avvio incontri progettazione “I Passi della Fede”
DESCRIPTION:
LOCATION:
URL:
END:VEVENT
END:VCALENDAR