BEGIN:VCALENDAR
VERSION:2.0
PRODID:-//DP Pro Event Calendar//3.2.7//EN
BEGIN:VEVENT
UID:a09ef009-8c22-4ca0-bfcd-4066da7a4cb3
DTSTART;TZID=Europe/Rome;VALUE=DATE:20241005
DTEND;TZID=Europe/Rome;VALUE=DATE:20241006
DTSTAMP:20241027T024012Z
SUMMARY:1° percorso in preparazione alla Cresima degli adulti
DESCRIPTION:Inizio percorso
LOCATION:Parrocchia S. Francesco da Paola\, Brescia
URL:
END:VEVENT
END:VCALENDAR