BEGIN:VCALENDAR
VERSION:2.0
PRODID:-//DP Pro Event Calendar//3.2.7//EN
BEGIN:VEVENT
UID:3833c6a9-169e-43e3-9e88-1e2857b27860
DTSTART;TZID=Europe/Rome;VALUE=DATE:20241108
DTEND;TZID=Europe/Rome;VALUE=DATE:20241109
DTSTAMP:20241027T024012Z
SUMMARY:Sai Fischiare?
DESCRIPTION:Corso per animatori
LOCATION:
URL:
END:VEVENT
END:VCALENDAR