BEGIN:VCALENDAR
VERSION:2.0
PRODID:-//DP Pro Event Calendar//3.2.7//EN
BEGIN:VEVENT
UID:20cb1bba-03e6-4c63-b462-843e97123d70
DTSTART;TZID=Europe/Rome;VALUE=DATE:20260208
DTEND;TZID=Europe/Rome;VALUE=DATE:20260209
DTSTAMP:20260420T114338Z
SUMMARY:StartUp - Festa della fede
DESCRIPTION:Scopri di più...
LOCATION:
URL:
END:VEVENT
END:VCALENDAR